BEGIN:VCALENDAR
VERSION:2.0
PRODID:-//Elixir School of Dance - ECPv6.15.17.1//NONSGML v1.0//EN
CALSCALE:GREGORIAN
METHOD:PUBLISH
X-ORIGINAL-URL:https://elixirdance.com
X-WR-CALDESC:Events for Elixir School of Dance
REFRESH-INTERVAL;VALUE=DURATION:PT1H
X-Robots-Tag:noindex
X-PUBLISHED-TTL:PT1H
BEGIN:VTIMEZONE
TZID:America/New_York
BEGIN:DAYLIGHT
TZOFFSETFROM:-0500
TZOFFSETTO:-0400
TZNAME:EDT
DTSTART:20240310T070000
END:DAYLIGHT
BEGIN:STANDARD
TZOFFSETFROM:-0400
TZOFFSETTO:-0500
TZNAME:EST
DTSTART:20241103T060000
END:STANDARD
BEGIN:DAYLIGHT
TZOFFSETFROM:-0500
TZOFFSETTO:-0400
TZNAME:EDT
DTSTART:20250309T070000
END:DAYLIGHT
BEGIN:STANDARD
TZOFFSETFROM:-0400
TZOFFSETTO:-0500
TZNAME:EST
DTSTART:20251102T060000
END:STANDARD
BEGIN:DAYLIGHT
TZOFFSETFROM:-0500
TZOFFSETTO:-0400
TZNAME:EDT
DTSTART:20260308T070000
END:DAYLIGHT
BEGIN:STANDARD
TZOFFSETFROM:-0400
TZOFFSETTO:-0500
TZNAME:EST
DTSTART:20261101T060000
END:STANDARD
BEGIN:DAYLIGHT
TZOFFSETFROM:-0500
TZOFFSETTO:-0400
TZNAME:EDT
DTSTART:20270314T070000
END:DAYLIGHT
BEGIN:STANDARD
TZOFFSETFROM:-0400
TZOFFSETTO:-0500
TZNAME:EST
DTSTART:20271107T060000
END:STANDARD
END:VTIMEZONE
BEGIN:VEVENT
DTSTART;TZID=America/New_York:20260327T190000
DTEND;TZID=America/New_York:20260327T201500
DTSTAMP:20260424T002432
CREATED:20260323T214811Z
LAST-MODIFIED:20260323T214811Z
UID:778-1774638000-1774642500@elixirdance.com
SUMMARY:MPR fitness: Liquid Motion (FREE DEMO)
DESCRIPTION:Join us for a FREE Liquid Motion demo class ✨ \nExplore fluid\, sensual movement and reconnect with your body on a deeper level. Let go of expectations and discover a whole new way to move. \nThis class is designed for 18+ only! \nDate: March 27th | Time: 7:00 –8:15  PM \nLocation: Elixir School of Dance \nScan QR code to avail tickets \nor Sign up here: https://mprfitness.as.me/schedule/a9c959d3/?appointmentTypeIds%5B%5D=89748250 
URL:https://elixirdance.com/event/mpr-fitness-liquid-motion-free-demo/
CATEGORIES:Adult classes
ATTACH;FMTTYPE=image/png:https://elixirdance.com/wp-content/uploads/2026/03/mpr-fitness-2-scaled.png
END:VEVENT
BEGIN:VEVENT
DTSTART;TZID=America/New_York:20260320T183000
DTEND;TZID=America/New_York:20260320T191500
DTSTAMP:20260424T002432
CREATED:20260317T192701Z
LAST-MODIFIED:20260317T192701Z
UID:774-1774031400-1774034100@elixirdance.com
SUMMARY:Friday Vibes: Danny Go Dance
DESCRIPTION:Jump\, wiggle\, and GO at our Danny Go Dance Party! A high-energy Friday night full of dancing and fun. Bring your moves \nand let’s GO! \n \nDate: March 20th | Time: 6:30 –7:15  PM \nLocation: Elixir School of Dance \nScan QR code to avail tickets \nor Sign up here: https://app.gostudiopro.com/tickets/elixirdance
URL:https://elixirdance.com/event/friday-vibes-danny-go-dance/
ATTACH;FMTTYPE=image/png:https://elixirdance.com/wp-content/uploads/2026/03/friday-vibes-danny-go-dance-Banner-Landscape-scaled.png
END:VEVENT
BEGIN:VEVENT
DTSTART;TZID=America/New_York:20260313T190000
DTEND;TZID=America/New_York:20260313T200000
DTSTAMP:20260424T002432
CREATED:20260313T230018Z
LAST-MODIFIED:20260310T024907Z
UID:765-1773428400-1773432000@elixirdance.com
SUMMARY:Bad Bunny Workshop
DESCRIPTION:The High-Energy Latin Fusion x Hip Hop class is BACK and better than ever! We’re bringing the half-time energy and revamping the moves for adults (18+) who wants to dance\, have fun\, and light up the floor. Don’t miss out—let’s turn up the heat together! \nDate: March 13th | Time: 7.00 –8.00  PM \nLocation: Elixir School of Dance \nScan QR code to avail tickets \nor Sign up here: https://app.gostudiopro.com/tickets/elixirdance
URL:https://elixirdance.com/event/bad-bunny-workshop/
CATEGORIES:Adult classes
ATTACH;FMTTYPE=image/png:https://elixirdance.com/wp-content/uploads/2025/11/bad-bunny-workshop-jan-31-Banner-Landscape-scaled.png
END:VEVENT
BEGIN:VEVENT
DTSTART;TZID=America/New_York:20260313T190000
DTEND;TZID=America/New_York:20260313T200000
DTSTAMP:20260424T002432
CREATED:20260311T174840Z
LAST-MODIFIED:20260311T174840Z
UID:769-1773428400-1773432000@elixirdance.com
SUMMARY:Bad Bunny Inspired Workshop
DESCRIPTION:Bad Bunny vibes loading…Get ready for a high-energy Latin Fusion x Hip Hop class that’ll have you dancing\, sweating\, and living your best life! \nDate: January 30 | Time: 7 – 8:00 PM \nLocation: Elixir School of Dance \nScan QR code to avail tickets \nor Sign up here: https://app.gostudiopro.com/tickets/elixirdance
URL:https://elixirdance.com/event/bad-bunny-inspired-workshop/
CATEGORIES:Adult classes
ATTACH;FMTTYPE=image/png:https://elixirdance.com/wp-content/uploads/2025/11/bad-bunny-workshop-jan-31-Banner-Landscape-scaled.png
END:VEVENT
BEGIN:VEVENT
DTSTART;TZID=America/New_York:20260130T190000
DTEND;TZID=America/New_York:20260130T203000
DTSTAMP:20260424T002432
CREATED:20251125T182854Z
LAST-MODIFIED:20260120T033216Z
UID:677-1769799600-1769805000@elixirdance.com
SUMMARY:Bad Bunny Inspired Workshop
DESCRIPTION:Bad Bunny vibes loading… Get ready for a high-energy Latin Fusion x Hip Hop class that’ll have you dancing\, sweating\, and living your best life! \nDate: January 30 | Time: 7 – 8.30 PM \nLocation: Elixir School of Dance \nScan QR code to avail tickets \nor Sign up here: https://app.gostudiopro.com/tickets/elixirdance
URL:https://elixirdance.com/event/bad-bunny/
LOCATION:Elixir School of Dance\, 25 E Frederick St\, Walkersville\, MD\, 21793\, United States
CATEGORIES:Holiday events
ATTACH;FMTTYPE=image/png:https://elixirdance.com/wp-content/uploads/2025/11/bad-bunny-workshop-jan-31-Banner-Landscape-scaled.png
END:VEVENT
BEGIN:VEVENT
DTSTART;TZID=America/New_York:20260116T183000
DTEND;TZID=America/New_York:20260116T194500
DTSTAMP:20260424T002432
CREATED:20260113T154114Z
LAST-MODIFIED:20260113T154114Z
UID:701-1768588200-1768592700@elixirdance.com
SUMMARY:Lyrical Jazz Workshop with Jess
DESCRIPTION:Jazz with Jess ✨ \nJoin us for an expressive and inspiring Lyrical Jazz Workshop led by Miss Jess\, where movement meets emotion and artistry takes center stage. This workshop blends the fluidity of lyrical with the technique and dynamics of jazz\, helping dancers connect deeply to music while refining their performance quality. \nThis workshop is perfect for dancers looking to improve musicality\, emotional expression\, and confidence while learning dynamic choreography in a supportive environment. \nCome move\, feel\, and grow\, don’t miss this chance to train with Miss Jess and elevate your artistry. 💫 \nDate: January 16th\nTime: 6:30 – 7:45 pm \nScan QR code to avail tickets \nor Sign up here: https://app.gostudiopro.com/tickets/elixirdance
URL:https://elixirdance.com/event/lyrical-jazz-workshop-with-jess/
LOCATION:Elixir School of Dance\, 25 E Frederick St\, Walkersville\, MD\, 21793\, United States
ATTACH;FMTTYPE=image/png:https://elixirdance.com/wp-content/uploads/2026/01/teacher-jess-Banner-Landscape-1-scaled.png
END:VEVENT
BEGIN:VEVENT
DTSTART;TZID=America/New_York:20251212T180000
DTEND;TZID=America/New_York:20251212T190000
DTSTAMP:20260424T002432
CREATED:20251117T191639Z
LAST-MODIFIED:20251117T191639Z
UID:666-1765562400-1765566000@elixirdance.com
SUMMARY:Friday K-pop Workshop
DESCRIPTION:안녕하세요 (Annyeonghaseyo)! \nReady to dance like your favorite idols?Join us for our K-POP FRIDAY WORKSHOP at Elixir School of Dance! \nLearn the hottest choreo\, vibe with fellow K-pop fans\, and live your main character moment! \nDate: December 12 | Time: 6:00 – 7:00 PMLocation: Elixir School of Dance \nScan QR code to avail tickets\nor Sign up here: https://app.gostudiopro.com/tickets/elixirdance
URL:https://elixirdance.com/event/friday-k-pop-workshop/
LOCATION:Elixir School of Dance\, 25 E Frederick St\, Walkersville\, MD\, 21793\, United States
CATEGORIES:Holiday events
ATTACH;FMTTYPE=image/png:https://elixirdance.com/wp-content/uploads/2025/11/friday-kpop-workshop-Banner-Landscape-scaled.png
END:VEVENT
BEGIN:VEVENT
DTSTART;TZID=America/New_York:20251205T180000
DTEND;TZID=America/New_York:20251205T193000
DTSTAMP:20260424T002432
CREATED:20251202T145818Z
LAST-MODIFIED:20251202T145818Z
UID:684-1764957600-1764963000@elixirdance.com
SUMMARY:Jazz with Jess
DESCRIPTION:Get ready to move\, flow\, and shine! ✨\nJoin us on Dec 5 for a Lyrical Jazz Workshop with the amazing Miss Jess!\nScan the QR code to save your spot or Sign up here: https://app.gostudiopro.com/tickets/elixirdance \nLet’s dance!
URL:https://elixirdance.com/event/jazz-with-jess/
CATEGORIES:Holiday events
ATTACH;FMTTYPE=image/png:https://elixirdance.com/wp-content/uploads/2025/12/teacher-jess-Banner-Landscape-scaled.png
END:VEVENT
BEGIN:VEVENT
DTSTART;TZID=America/New_York:20251203T190000
DTEND;TZID=America/New_York:20251203T210000
DTSTAMP:20260424T002432
CREATED:20251103T180056Z
LAST-MODIFIED:20251103T180130Z
UID:635-1764788400-1764795600@elixirdance.com
SUMMARY:A Very Merry Classic Christmas
DESCRIPTION:We are excited to perform alongside other Frederick performing arts schools in this Very Merry Christmas production at the beautiful Hagerstown Theater. It is a wonderful opportunity for our young dancers aged from 4 – 12 to have this chance to dance their hearts out and be exposed to how a professional production is put on. \nTickets start at $47. \nBook soon\, as this show sells out every year!
URL:https://elixirdance.com/event/a-very-merry-classic-christmas/
LOCATION:The Maryland Theater\, Hagerstown\, MD\, 21 South Potomac Street\, Hagerstown\, MD\, 21740\, United States
CATEGORIES:Holiday events
ATTACH;FMTTYPE=image/jpeg:https://elixirdance.com/wp-content/uploads/2025/11/2025-Christmas-show-Jessica-Lynn-scaled.jpg
END:VEVENT
BEGIN:VEVENT
DTSTART;TZID=America/New_York:20251120T183000
DTEND;TZID=America/New_York:20251120T193000
DTSTAMP:20260424T002432
CREATED:20251104T212359Z
LAST-MODIFIED:20251104T212625Z
UID:656-1763663400-1763667000@elixirdance.com
SUMMARY:November Salsa Class Series: Class 4
DESCRIPTION:Move\, laugh\, and connect as you learn classic salsa steps and turns in a fun\, upbeat environment. \nPerfect for singles or couples! \nNo partner or experience needed. Just bring your energy and a smile! \nDetails:\n\n4-week series on Thursday evenings (started on October 30th\, 2025)\n6:30 PM for one hour\n$20/class\n\nSign up here: https://app.gostudiopro.com/online/elixirdance
URL:https://elixirdance.com/event/salsa-class-series-2025-11-20/
LOCATION:Elixir School of Dance\, 25 E Frederick St\, Walkersville\, MD\, 21793\, United States
CATEGORIES:Adult classes
ATTACH;FMTTYPE=image/jpeg:https://elixirdance.com/wp-content/uploads/2025/11/2025-10-Salsa-dance-series.jpg
ORGANIZER;CN="Elixir School of Dance":MAILTO:info@elixirdance.com
END:VEVENT
BEGIN:VEVENT
DTSTART;TZID=America/New_York:20251113T183000
DTEND;TZID=America/New_York:20251113T193000
DTSTAMP:20260424T002432
CREATED:20251104T212026Z
LAST-MODIFIED:20251104T212525Z
UID:654-1763058600-1763062200@elixirdance.com
SUMMARY:November Salsa Class Series: Class 3
DESCRIPTION:Move\, laugh\, and connect as you learn classic salsa steps and turns in a fun\, upbeat environment. \nPerfect for singles or couples! \nNo partner or experience needed. Just bring your energy and a smile! \nDetails:\n\n4-week series on Thursday evenings\, starting October 30th\, 2025\n6:30 PM for one hour\n$20/class or $36 for two remaining classes (Thurs Nov 13 and 20)\n\nSign up here: https://app.gostudiopro.com/online/elixirdance
URL:https://elixirdance.com/event/salsa-class-series-2025-11-13/
LOCATION:Elixir School of Dance\, 25 E Frederick St\, Walkersville\, MD\, 21793\, United States
CATEGORIES:Adult classes
ATTACH;FMTTYPE=image/jpeg:https://elixirdance.com/wp-content/uploads/2025/11/2025-10-Salsa-dance-series.jpg
ORGANIZER;CN="Elixir School of Dance":MAILTO:info@elixirdance.com
END:VEVENT
BEGIN:VEVENT
DTSTART;TZID=America/New_York:20251107T173000
DTEND;TZID=America/New_York:20251107T183000
DTSTAMP:20260424T002432
CREATED:20251010T164826Z
LAST-MODIFIED:20251015T234431Z
UID:609-1762536600-1762540200@elixirdance.com
SUMMARY:Taylor Swift "Life of a Showgirl" adult workshop
DESCRIPTION:Step into your spotlight and embrace your Showgirl Era! This adult (18+) dance workshop celebrates the glitz\, confidence\, and playful energy inspired by Taylor Swift’s The Life of a Showgirl. Learn empowering\, performance-style choreography set to Taylor’s pop music. \nThe details:\nAges: 18 and up \nPrice: $13 per person \nBook your spot: app.gostudiopro.com/tickets/elixirdance
URL:https://elixirdance.com/event/taylor-swift-life-of-a-showgirl-adult-workshop/
LOCATION:Elixir School of Dance\, 25 E Frederick St\, Walkersville\, MD\, 21793\, United States
ATTACH;FMTTYPE=image/png:https://elixirdance.com/wp-content/uploads/2025/10/2-scaled.png
END:VEVENT
BEGIN:VEVENT
DTSTART;TZID=America/New_York:20251106T183000
DTEND;TZID=America/New_York:20251106T193000
DTSTAMP:20260424T002432
CREATED:20251104T205940Z
LAST-MODIFIED:20251104T212457Z
UID:643-1762453800-1762457400@elixirdance.com
SUMMARY:November Salsa Class Series: Class 2
DESCRIPTION:Move\, laugh\, and connect as you learn classic salsa steps and turns in a fun\, upbeat environment. \nPerfect for singles or couples! \nNo partner or experience needed. Just bring your energy and a smile! \nDetails:\n\n4-week series on Thursday evenings\, starting October 30th\, 2025\n6:30 PM for one hour\n$20/class or $48 for three remaining classes (Thurs Nov 6\, 13\, and 20)\n\nSign up here: https://app.gostudiopro.com/online/elixirdance
URL:https://elixirdance.com/event/salsa-class-series-2025-11-6/
LOCATION:Elixir School of Dance\, 25 E Frederick St\, Walkersville\, MD\, 21793\, United States
CATEGORIES:Adult classes
ATTACH;FMTTYPE=image/jpeg:https://elixirdance.com/wp-content/uploads/2025/11/2025-10-Salsa-dance-series.jpg
ORGANIZER;CN="Elixir School of Dance":MAILTO:info@elixirdance.com
END:VEVENT
BEGIN:VEVENT
DTSTART;TZID=America/New_York:20251026T150000
DTEND;TZID=America/New_York:20251026T170000
DTSTAMP:20260424T002432
CREATED:20251009T184215Z
LAST-MODIFIED:20251009T185303Z
UID:598-1761490800-1761498000@elixirdance.com
SUMMARY:Elixir Trunk or Treat 2025
DESCRIPTION:Join us for a spooky Halloween celebration! We’ll be set up in the parking lot in front of the studio. \nWe’re looking for vendors — no fee to participate. Please contact Grace at grace@elixirdance.com for more information. \n 
URL:https://elixirdance.com/event/elixir-trunk-or-treat-2025/
LOCATION:Elixir School of Dance\, 25 E Frederick St\, Walkersville\, MD\, 21793\, United States
CATEGORIES:Holiday events
ATTACH;FMTTYPE=image/jpeg:https://elixirdance.com/wp-content/uploads/2025/10/2025-trunk-or-treat-top.jpg
ORGANIZER;CN="Elixir School of Dance":MAILTO:info@elixirdance.com
END:VEVENT
BEGIN:VEVENT
DTSTART;TZID=America/New_York:20251024T173000
DTEND;TZID=America/New_York:20251024T183000
DTSTAMP:20260424T002432
CREATED:20251010T163842Z
LAST-MODIFIED:20251015T231240Z
UID:606-1761327000-1761330600@elixirdance.com
SUMMARY:THRILLER! Halloween dance workshop
DESCRIPTION:Step into the spotlight this Halloween at our Thriller Workshop! Dancers will learn iconic choreography inspired by the legendary Halloween hit while exploring musicality\, performance\, and a little bit of spooky fun. No experience required. Just bring your best zombie groove and get ready to dance the night away! \nThe details:\nAges: 16 and under \nEarly bird discount price: $5 per child (until October 15) \nRegular price: $10 per child \nSign up your child: app.gostudiopro.com/tickets/elixirdance
URL:https://elixirdance.com/event/thriller-halloween-dance-workshop/
LOCATION:Elixir School of Dance\, 25 E Frederick St\, Walkersville\, MD\, 21793\, United States
CATEGORIES:Holiday events
ATTACH;FMTTYPE=image/png:https://elixirdance.com/wp-content/uploads/2025/10/1-scaled.png
END:VEVENT
END:VCALENDAR