BEGIN:VCALENDAR
VERSION:2.0
PRODID:-//Elixir School of Dance - ECPv6.15.17.1//NONSGML v1.0//EN
CALSCALE:GREGORIAN
METHOD:PUBLISH
X-WR-CALNAME:Elixir School of Dance
X-ORIGINAL-URL:https://elixirdance.com
X-WR-CALDESC:Events for Elixir School of Dance
REFRESH-INTERVAL;VALUE=DURATION:PT1H
X-Robots-Tag:noindex
X-PUBLISHED-TTL:PT1H
BEGIN:VTIMEZONE
TZID:America/New_York
BEGIN:DAYLIGHT
TZOFFSETFROM:-0500
TZOFFSETTO:-0400
TZNAME:EDT
DTSTART:20240310T070000
END:DAYLIGHT
BEGIN:STANDARD
TZOFFSETFROM:-0400
TZOFFSETTO:-0500
TZNAME:EST
DTSTART:20241103T060000
END:STANDARD
BEGIN:DAYLIGHT
TZOFFSETFROM:-0500
TZOFFSETTO:-0400
TZNAME:EDT
DTSTART:20250309T070000
END:DAYLIGHT
BEGIN:STANDARD
TZOFFSETFROM:-0400
TZOFFSETTO:-0500
TZNAME:EST
DTSTART:20251102T060000
END:STANDARD
BEGIN:DAYLIGHT
TZOFFSETFROM:-0500
TZOFFSETTO:-0400
TZNAME:EDT
DTSTART:20260308T070000
END:DAYLIGHT
BEGIN:STANDARD
TZOFFSETFROM:-0400
TZOFFSETTO:-0500
TZNAME:EST
DTSTART:20261101T060000
END:STANDARD
END:VTIMEZONE
BEGIN:VEVENT
DTSTART;TZID=America/New_York:20251106T183000
DTEND;TZID=America/New_York:20251106T193000
DTSTAMP:20260424T013747
CREATED:20251104T205940Z
LAST-MODIFIED:20251104T212457Z
UID:643-1762453800-1762457400@elixirdance.com
SUMMARY:November Salsa Class Series: Class 2
DESCRIPTION:Move\, laugh\, and connect as you learn classic salsa steps and turns in a fun\, upbeat environment. \nPerfect for singles or couples! \nNo partner or experience needed. Just bring your energy and a smile! \nDetails:\n\n4-week series on Thursday evenings\, starting October 30th\, 2025\n6:30 PM for one hour\n$20/class or $48 for three remaining classes (Thurs Nov 6\, 13\, and 20)\n\nSign up here: https://app.gostudiopro.com/online/elixirdance
URL:https://elixirdance.com/event/salsa-class-series-2025-11-6/
LOCATION:Elixir School of Dance\, 25 E Frederick St\, Walkersville\, MD\, 21793\, United States
CATEGORIES:Adult classes
ATTACH;FMTTYPE=image/jpeg:https://elixirdance.com/wp-content/uploads/2025/11/2025-10-Salsa-dance-series.jpg
ORGANIZER;CN="Elixir School of Dance":MAILTO:info@elixirdance.com
END:VEVENT
BEGIN:VEVENT
DTSTART;TZID=America/New_York:20251026T150000
DTEND;TZID=America/New_York:20251026T170000
DTSTAMP:20260424T013747
CREATED:20251009T184215Z
LAST-MODIFIED:20251009T185303Z
UID:598-1761490800-1761498000@elixirdance.com
SUMMARY:Elixir Trunk or Treat 2025
DESCRIPTION:Join us for a spooky Halloween celebration! We’ll be set up in the parking lot in front of the studio. \nWe’re looking for vendors — no fee to participate. Please contact Grace at grace@elixirdance.com for more information. \n 
URL:https://elixirdance.com/event/elixir-trunk-or-treat-2025/
LOCATION:Elixir School of Dance\, 25 E Frederick St\, Walkersville\, MD\, 21793\, United States
CATEGORIES:Holiday events
ATTACH;FMTTYPE=image/jpeg:https://elixirdance.com/wp-content/uploads/2025/10/2025-trunk-or-treat-top.jpg
ORGANIZER;CN="Elixir School of Dance":MAILTO:info@elixirdance.com
END:VEVENT
BEGIN:VEVENT
DTSTART;TZID=America/New_York:20251024T173000
DTEND;TZID=America/New_York:20251024T183000
DTSTAMP:20260424T013747
CREATED:20251010T163842Z
LAST-MODIFIED:20251015T231240Z
UID:606-1761327000-1761330600@elixirdance.com
SUMMARY:THRILLER! Halloween dance workshop
DESCRIPTION:Step into the spotlight this Halloween at our Thriller Workshop! Dancers will learn iconic choreography inspired by the legendary Halloween hit while exploring musicality\, performance\, and a little bit of spooky fun. No experience required. Just bring your best zombie groove and get ready to dance the night away! \nThe details:\nAges: 16 and under \nEarly bird discount price: $5 per child (until October 15) \nRegular price: $10 per child \nSign up your child: app.gostudiopro.com/tickets/elixirdance
URL:https://elixirdance.com/event/thriller-halloween-dance-workshop/
LOCATION:Elixir School of Dance\, 25 E Frederick St\, Walkersville\, MD\, 21793\, United States
CATEGORIES:Holiday events
ATTACH;FMTTYPE=image/png:https://elixirdance.com/wp-content/uploads/2025/10/1-scaled.png
END:VEVENT
END:VCALENDAR